BEGIN:VCALENDAR
VERSION:2.0
PRODID:-//pretalx//fahrplan.podstock.de//RZL7TB
BEGIN:VTIMEZONE
TZID:CET
BEGIN:STANDARD
DTSTART:20001029T040000
RRULE:FREQ=YEARLY;BYDAY=-1SU;BYMONTH=10
TZNAME:CET
TZOFFSETFROM:+0200
TZOFFSETTO:+0100
END:STANDARD
BEGIN:DAYLIGHT
DTSTART:20000326T030000
RRULE:FREQ=YEARLY;BYDAY=-1SU;BYMONTH=3
TZNAME:CEST
TZOFFSETFROM:+0100
TZOFFSETTO:+0200
END:DAYLIGHT
END:VTIMEZONE
BEGIN:VEVENT
UID:pretalx-podstock2026-RZL7TB@fahrplan.podstock.de
DTSTART;TZID=CET:20260410T193000
DTEND;TZID=CET:20260410T193000
DESCRIPTION:Macht bitte Platz für Workshops am Kreativ- und am Handarbeits
 tisch. Habt Spaß und seid kreativ!
DTSTAMP:20260420T091916Z
LOCATION:Saal
SUMMARY:Dauerangebote ab jetzt geöffnet! Handarbeits- und Kreativtisch zur
  freien Nutzung! - 
URL:https://fahrplan.podstock.de/podstock2026/talk/RZL7TB/
END:VEVENT
END:VCALENDAR
