BEGIN:VCALENDAR
VERSION:2.0
PRODID:-//pretalx//fahrplan.podstock.de//CBRT3B
BEGIN:VTIMEZONE
TZID:CET
BEGIN:STANDARD
DTSTART:20001029T040000
RRULE:FREQ=YEARLY;BYDAY=-1SU;BYMONTH=10
TZNAME:CET
TZOFFSETFROM:+0200
TZOFFSETTO:+0100
END:STANDARD
BEGIN:DAYLIGHT
DTSTART:20000326T030000
RRULE:FREQ=YEARLY;BYDAY=-1SU;BYMONTH=3
TZNAME:CEST
TZOFFSETFROM:+0100
TZOFFSETTO:+0200
END:DAYLIGHT
END:VTIMEZONE
BEGIN:VEVENT
UID:pretalx-podstock2026-CBRT3B@fahrplan.podstock.de
DTSTART;TZID=CET:20260411T104500
DTEND;TZID=CET:20260411T113000
DESCRIPTION:Was hat der Zoll damit zu tun\, wenn man Software verschickt. U
 nd warum ist Software auf USB-Stick was anderes als Software zum Download.
  \nWas muss man beachten\, wenn man nicht-Hardware international versenden
  wird. Über besondere Maßeinheiten in der Software und Exportverbote\, K
 ryptografie und Pflicht zur Verschlüsselung.
DTSTAMP:20260420T105414Z
LOCATION:Podcasttisch
SUMMARY:Wieso denn bloß - warum denn nur - Wie verschickt man eigentlich S
 oftware - Bugspriet/Claudia
URL:https://fahrplan.podstock.de/podstock2026/talk/CBRT3B/
END:VEVENT
END:VCALENDAR
