BEGIN:VCALENDAR
VERSION:2.0
PRODID:-//pretalx//fahrplan.podstock.de//podstock2026//XUHFRJ
BEGIN:VTIMEZONE
TZID:CET
BEGIN:STANDARD
DTSTART:20001029T040000
RRULE:FREQ=YEARLY;BYDAY=-1SU;BYMONTH=10
TZNAME:CET
TZOFFSETFROM:+0200
TZOFFSETTO:+0100
END:STANDARD
BEGIN:DAYLIGHT
DTSTART:20000326T030000
RRULE:FREQ=YEARLY;BYDAY=-1SU;BYMONTH=3
TZNAME:CEST
TZOFFSETFROM:+0100
TZOFFSETTO:+0200
END:DAYLIGHT
END:VTIMEZONE
BEGIN:VEVENT
UID:pretalx-podstock2026-F33NT3@fahrplan.podstock.de
DTSTART;TZID=CET:20260410T203000
DTEND;TZID=CET:20260410T203000
DESCRIPTION:Verschenke und tausche deine Puzzles
DTSTAMP:20260420T105639Z
LOCATION:Saal
SUMMARY:Puzzle- und Spiele-Exchange - Anne
URL:https://fahrplan.podstock.de/podstock2026/talk/F33NT3/
END:VEVENT
END:VCALENDAR
