BEGIN:VCALENDAR
VERSION:2.0
PRODID:-//pretalx//fahrplan.podstock.de//podstock2026//T8SAQK
BEGIN:VTIMEZONE
TZID:CET
BEGIN:STANDARD
DTSTART:20001029T040000
RRULE:FREQ=YEARLY;BYDAY=-1SU;BYMONTH=10
TZNAME:CET
TZOFFSETFROM:+0200
TZOFFSETTO:+0100
END:STANDARD
BEGIN:DAYLIGHT
DTSTART:20000326T030000
RRULE:FREQ=YEARLY;BYDAY=-1SU;BYMONTH=3
TZNAME:CEST
TZOFFSETFROM:+0100
TZOFFSETTO:+0200
END:DAYLIGHT
END:VTIMEZONE
BEGIN:VEVENT
UID:pretalx-podstock2026-PWSVUG@fahrplan.podstock.de
DTSTART;TZID=CET:20260411T133000
DTEND;TZID=CET:20260411T141500
DESCRIPTION:Ein kleiner Workshop\, bei dem wir auf unsere Privilegien gucke
 n.
DTSTAMP:20260420T104246Z
LOCATION:H4
SUMMARY:Guter Start? Wir gucke auf unsere Privilegien - @blubberfrosch
URL:https://fahrplan.podstock.de/podstock2026/talk/PWSVUG/
END:VEVENT
END:VCALENDAR
