BEGIN:VCALENDAR
VERSION:2.0
PRODID:-//pretalx//fahrplan.podstock.de//podstock2026//KQRFUM
BEGIN:VTIMEZONE
TZID:CET
BEGIN:STANDARD
DTSTART:20001029T040000
RRULE:FREQ=YEARLY;BYDAY=-1SU;BYMONTH=10
TZNAME:CET
TZOFFSETFROM:+0200
TZOFFSETTO:+0100
END:STANDARD
BEGIN:DAYLIGHT
DTSTART:20000326T030000
RRULE:FREQ=YEARLY;BYDAY=-1SU;BYMONTH=3
TZNAME:CEST
TZOFFSETFROM:+0100
TZOFFSETTO:+0200
END:DAYLIGHT
END:VTIMEZONE
BEGIN:VEVENT
UID:pretalx-podstock2026-WXJP9W@fahrplan.podstock.de
DTSTART;TZID=CET:20260411T153000
DTEND;TZID=CET:20260411T173000
DESCRIPTION:The Revolutionary Squarry Show - Podstock Edition
DTSTAMP:20260420T104908Z
LOCATION:Zelthaus (Unten)
SUMMARY:The Revolutionary Squarry Show - Podstock Edition - Mespotine
URL:https://fahrplan.podstock.de/podstock2026/talk/WXJP9W/
END:VEVENT
END:VCALENDAR
